BEGIN:VCALENDAR
VERSION:2.0
PRODID:-//CP-Pro - ECPv6.15.11//NONSGML v1.0//EN
CALSCALE:GREGORIAN
METHOD:PUBLISH
X-WR-CALNAME:CP-Pro
X-ORIGINAL-URL:https://cp-pro.de
X-WR-CALDESC:Veranstaltungen für CP-Pro
REFRESH-INTERVAL;VALUE=DURATION:PT1H
X-Robots-Tag:noindex
X-PUBLISHED-TTL:PT1H
BEGIN:VTIMEZONE
TZID:Europe/Berlin
BEGIN:DAYLIGHT
TZOFFSETFROM:+0100
TZOFFSETTO:+0200
TZNAME:CEST
DTSTART:20210328T010000
END:DAYLIGHT
BEGIN:STANDARD
TZOFFSETFROM:+0200
TZOFFSETTO:+0100
TZNAME:CET
DTSTART:20211031T010000
END:STANDARD
BEGIN:DAYLIGHT
TZOFFSETFROM:+0100
TZOFFSETTO:+0200
TZNAME:CEST
DTSTART:20220327T010000
END:DAYLIGHT
BEGIN:STANDARD
TZOFFSETFROM:+0200
TZOFFSETTO:+0100
TZNAME:CET
DTSTART:20221030T010000
END:STANDARD
BEGIN:DAYLIGHT
TZOFFSETFROM:+0100
TZOFFSETTO:+0200
TZNAME:CEST
DTSTART:20230326T010000
END:DAYLIGHT
BEGIN:STANDARD
TZOFFSETFROM:+0200
TZOFFSETTO:+0100
TZNAME:CET
DTSTART:20231029T010000
END:STANDARD
END:VTIMEZONE
BEGIN:VEVENT
DTSTART;TZID=Europe/Berlin:20221103T100000
DTEND;TZID=Europe/Berlin:20221103T110000
DTSTAMP:20260423T143746
CREATED:20220629T054413Z
LAST-MODIFIED:20220630T131016Z
UID:10000008-1667469600-1667473200@cp-pro.de
SUMMARY:Webinar CP-Pro CAD - Grundlagen
DESCRIPTION:In unseren kostenlosen Webinaren lernen Sie in kurzer Zeit den Umgang mit den verschiedenen Modulen aus CP-Pro Gerüstbau-Office und CP-Pro CAD.  \n✔️ Zusätzlich erhalten Sie ganz kompakt hilfreiche Detailinformationen
URL:https://cp-pro.de/events/webinar-cp-pro-cad-grundlagen/
CATEGORIES:CP-Pro CAD 3D,Webinare
ATTACH;FMTTYPE=image/png:https://cp-pro.de/wordpress/wp-content/uploads/2022/06/Bilder-CP-Pro-7.png
END:VEVENT
BEGIN:VEVENT
DTSTART;TZID=Europe/Berlin:20221027T090000
DTEND;TZID=Europe/Berlin:20221028T153000
DTSTAMP:20260423T143746
CREATED:20220630T132320Z
LAST-MODIFIED:20221013T074809Z
UID:10000015-1666861200-1666971000@cp-pro.de
SUMMARY:CP-Pro Faktura Grundlagenschulung im Raum Hannover
DESCRIPTION:CP-Pro Faktura Grundlagenschulung im Raum Hannover (Nord). \nIn dieser Schulung vermitteln wir praxisnah die Grundlagen unseres Moduls „CP-Pro Faktura“\, mit einer Mischung aus Theorie und Aufgabenbearbeitung\, unterstützt durch unsere kompetenten Dozent:innen\, in überschaubaren Gruppen\, einer angenehmen Lernatmosphäre\, begleitet von Lehrunterlagen. \nDie Adresse zur Veranstaltung erhalten Sie ca. 4 Wochen vor Schulungsbeginn. \nAlle Infos als pdf downloaden\nÜber “Registrieren” gelangen Sie zum Anmeldeformular.\nWir freuen uns auf Sie!
URL:https://cp-pro.de/events/cp-pro-faktura-grundlagenschulung-im-raum-hannover/
LOCATION:Dr. Buhmann Schule\, Hannover\, Prinzenstr. 13\, Hannover\, 30159\, Deutschland
CATEGORIES:CP-Pro Faktura,Präsenz Schulungen
ATTACH;FMTTYPE=image/png:https://cp-pro.de/wordpress/wp-content/uploads/2022/07/19.png
ORGANIZER;CN="CP-Pro":MAILTO:support@cp-pro.eu
END:VEVENT
BEGIN:VEVENT
DTSTART;TZID=Europe/Berlin:20221006T100000
DTEND;TZID=Europe/Berlin:20221006T110000
DTSTAMP:20260423T143746
CREATED:20220627T125312Z
LAST-MODIFIED:20220630T123153Z
UID:10000007-1665050400-1665054000@cp-pro.de
SUMMARY:Webinar CP-Pro Faktura - Rahmenvertrag
DESCRIPTION:In unseren kostenlosen Webinaren lernen Sie in kurzer Zeit den Umgang mit den verschiedenen Modulen aus CP-Pro Gerüstbau-Office und CP-Pro CAD.  \n✔️ Zusätzlich erhalten Sie ganz kompakt hilfreiche Detailinformationen.
URL:https://cp-pro.de/events/webinar-cp-pro-faktura-rahmenvertrag/
CATEGORIES:CP-Pro Faktura,Webinare
ATTACH;FMTTYPE=image/png:https://cp-pro.de/wordpress/wp-content/uploads/2022/06/Bilder-CP-Pro-2.png
END:VEVENT
BEGIN:VEVENT
DTSTART;TZID=Europe/Berlin:20220929T080000
DTEND;TZID=Europe/Berlin:20220930T153000
DTSTAMP:20260423T143746
CREATED:20220627T113009Z
LAST-MODIFIED:20220913T091429Z
UID:10000001-1664438400-1664551800@cp-pro.de
SUMMARY:CP-Pro Faktura Grundlagenschulung in Dormagen [ausgebucht]
DESCRIPTION:Die Schulung ist ausgebucht. Setzen Sie sich gerne auf die Warteliste\, falls ein Teilnehmer abspringt. \nCP-Pro Faktura Grundlagenschulung bei uns in Dormagen. \nIn dieser Schulung vermitteln wir praxisnah die Grundlagen unseres Moduls „CP-Pro Faktura“\, mit einer Mischung aus Theorie und Aufgabenbearbeitung\, unterstützt durch unsere kompetenten Dozent:innen\, in überschaubaren Gruppen\, einer angenehmen Lernatmosphäre\, begleitet von Lehrunterlagen. \nAlle Infos als pdf downloaden\nÜber “Registrieren” gelangen Sie zum Anmeldeformular.\nWir freuen uns auf Sie!
URL:https://cp-pro.de/events/cp-pro-faktura-grundlagenschulung-in-dormagen/
LOCATION:CP-Pro Seminarraum\, Bahnhofstr. 29\, Dormagen\, 41539\, Deutschland
CATEGORIES:CP-Pro Faktura,Präsenz Schulungen
ATTACH;FMTTYPE=image/png:https://cp-pro.de/wordpress/wp-content/uploads/2022/07/18.png
ORGANIZER;CN="CP-Pro":MAILTO:support@cp-pro.eu
END:VEVENT
BEGIN:VEVENT
DTSTART;TZID=Europe/Berlin:20220915T100000
DTEND;TZID=Europe/Berlin:20220915T110000
DTSTAMP:20260423T143746
CREATED:20220627T125025Z
LAST-MODIFIED:20220630T082725Z
UID:10000006-1663236000-1663239600@cp-pro.de
SUMMARY:Webinar CP-Pro Controlling - Buchhaltung
DESCRIPTION:In unseren kostenlosen Webinaren lernen Sie in kurzer Zeit den Umgang mit den verschiedenen Modulen aus CP-Pro Gerüstbau-Office und CP-Pro CAD.  \n✔️ Zusätzlich erhalten Sie ganz kompakt hilfreiche Detailinformationen
URL:https://cp-pro.de/events/webinar-cp-pro-controlling-buchhaltung/
CATEGORIES:CP-Pro Controlling,Webinare
ATTACH;FMTTYPE=image/png:https://cp-pro.de/wordpress/wp-content/uploads/2022/06/Buchhaltung.png
END:VEVENT
BEGIN:VEVENT
DTSTART;TZID=Europe/Berlin:20220908T100000
DTEND;TZID=Europe/Berlin:20220908T110000
DTSTAMP:20260423T143746
CREATED:20220627T123834Z
LAST-MODIFIED:20220908T045215Z
UID:10000005-1662631200-1662634800@cp-pro.de
SUMMARY:Webinar CP-Pro Controlling - Personal Stundenerfassung
DESCRIPTION:In unseren kostenlosen Webinaren lernen Sie in kurzer Zeit den Umgang mit den verschiedenen Modulen aus CP-Pro Gerüstbau-Office und CP-Pro CAD. \n✔️ Zusätzlich erhalten Sie ganz kompakt hilfreiche Detailinformationen
URL:https://cp-pro.de/events/webinar-cp-pro-controlling-personal-stundenerfassung/
CATEGORIES:CP-Pro Controlling,Webinare
ATTACH;FMTTYPE=image/png:https://cp-pro.de/wordpress/wp-content/uploads/2022/06/Bilder-CP-Pro-14.png
END:VEVENT
BEGIN:VEVENT
DTSTART;TZID=Europe/Berlin:20220902T100000
DTEND;TZID=Europe/Berlin:20220902T110000
DTSTAMP:20260423T143746
CREATED:20220627T113839Z
LAST-MODIFIED:20220810T114729Z
UID:10000004-1662112800-1662116400@cp-pro.de
SUMMARY:Webinar CP-Pro Faktura - Rechnung & OP-Liste
DESCRIPTION:In unseren kostenlosen Webinaren lernen Sie in kurzer Zeit den Umgang mit den verschiedenen Modulen aus CP-Pro Gerüstbau-Office und CP-Pro CAD. \n✔️ Zusätzlich erhalten Sie ganz kompakt hilfreiche Detailinformationen
URL:https://cp-pro.de/events/webinar-cp-pro-faktura-rechnung-op-liste/
CATEGORIES:CP-Pro Faktura,Webinare
ATTACH;FMTTYPE=image/png:https://cp-pro.de/wordpress/wp-content/uploads/2022/06/Rechnung_op.png
END:VEVENT
BEGIN:VEVENT
DTSTART;TZID=Europe/Berlin:20220901T100000
DTEND;TZID=Europe/Berlin:20220901T110000
DTSTAMP:20260423T143746
CREATED:20220607T111744Z
LAST-MODIFIED:20220810T114518Z
UID:10000003-1662026400-1662030000@cp-pro.de
SUMMARY:Webinar CP-Pro Faktura - Angebot & Aufmaß
DESCRIPTION:In unseren kostenlosen Webinaren\, lernen Sie in kurzer Zeit den Umgang mit den verschiedenen\nModulen aus CP-Pro Gerüstbau-Office und CP-Pro CAD. \n✔️ Zusätzlich erhalten Sie ganz kompakt\, hilfreiche Detailinformationen
URL:https://cp-pro.de/events/webinar-cp-pro-faktura-anfrage-angebot-aufmass/
CATEGORIES:CP-Pro Faktura,Webinare
ATTACH;FMTTYPE=image/png:https://cp-pro.de/wordpress/wp-content/uploads/2022/06/Angebot_Aufmass.png
END:VEVENT
BEGIN:VEVENT
DTSTART;TZID=Europe/Berlin:20220825T090000
DTEND;TZID=Europe/Berlin:20220826T143000
DTSTAMP:20260423T143746
CREATED:20220620T083747Z
LAST-MODIFIED:20220708T104324Z
UID:10000002-1661418000-1661524200@cp-pro.de
SUMMARY:CP-Pro Faktura Grundlagen Schulung (Online)
DESCRIPTION:In dieser Schulung lernen Sie die Grundlagen für Ihre Arbeit mit CP-Pro Faktura.\nNach einer kurzen allgemeinen Einführung arbeiten die Teilnehmer:innen an ihren Arbeitsplätzen parallel zu unseren Dozent:innen. Kenntnisse und Fertigkeiten werden dabei durch Übungsaufgaben verfestigt \nAlle Infos als pdf downloaden\nÜber „Registrieren“ gelangen Sie zum Anmeldeformular.\nWir freuen uns auf Sie!
URL:https://cp-pro.de/events/__trashed-3/
CATEGORIES:CP-Pro Faktura,Präsenz Schulungen
ATTACH;FMTTYPE=image/png:https://cp-pro.de/wordpress/wp-content/uploads/2022/06/Bilder-CP-Pro-12.png
END:VEVENT
END:VCALENDAR